BEGIN:VCALENDAR
VERSION:2.0
PRODID:-//217.160.0.197//NONSGML kigkonsult.se iCalcreator 2.20//
CALSCALE:GREGORIAN
METHOD:PUBLISH
X-WR-TIMEZONE:Europe/Berlin
BEGIN:VEVENT
UID:event36@Arbeitskreis Naturschutz in der SG Tostedt e.V.
DTSTAMP:20260420T102333Z
CATEGORIES:Veranstaltung
DESCRIPTION:Mitgliederversammlung 2016\nKategorie: Veranstaltung\nICS-Link:
  https://aknaturschutz.de/index.php?option=com_jem&view=event&id=36:mitgli
 ederversammlung-2016\n
DTSTART;TZID=Europe/Berlin:20160422T193000
DTEND;TZID=Europe/Berlin:20160422T193000
LOCATION:Heidenauer Hof
SUMMARY:Mitgliederversammlung 2016
URL:https://aknaturschutz.de/index.php?option=com_jem&view=event&id=36:mitg
 liederversammlung-2016
END:VEVENT
END:VCALENDAR
