BEGIN:VCALENDAR
VERSION:2.0
PRODID:-//217.160.0.197//NONSGML kigkonsult.se iCalcreator 2.20//
CALSCALE:GREGORIAN
METHOD:PUBLISH
X-WR-TIMEZONE:Europe/Berlin
BEGIN:VEVENT
UID:event27@Arbeitskreis Naturschutz in der SG Tostedt e.V.
DTSTAMP:20260420T145629Z
CATEGORIES:Sitzung
DESCRIPTION:Vorstandssitzung\nKategorie: Sitzung\nICS-Link: https://aknatur
 schutz.de/index.php?option=com_jem&view=event&id=27:vorstandssitzung\n
DTSTART;TZID=Europe/Berlin:20160404T193000
DTEND;TZID=Europe/Berlin:20160404T193000
LOCATION:Büro Bohling
SUMMARY:Vorstandssitzung
URL:https://aknaturschutz.de/index.php?option=com_jem&view=event&id=27:vors
 tandssitzung
END:VEVENT
END:VCALENDAR
