BEGIN:VCALENDAR
VERSION:2.0
PRODID:-//217.160.0.197//NONSGML kigkonsult.se iCalcreator 2.20//
CALSCALE:GREGORIAN
METHOD:PUBLISH
X-WR-TIMEZONE:Europe/Berlin
BEGIN:VEVENT
UID:event18@Arbeitskreis Naturschutz in der SG Tostedt e.V.
DTSTAMP:20260420T144140Z
CATEGORIES:Veranstaltung
DESCRIPTION:Fledermäuse - Windenergie\nKategorie: Veranstaltung\nICS-Link: 
 https://aknaturschutz.de/index.php?option=com_jem&view=event&id=18:flederm
 aeuse-windenergie\n
DTSTART;TZID=Europe/Berlin:20150317T193000
DTEND;TZID=Europe/Berlin:20150317T193000
LOCATION:Büro Bohling
SUMMARY:Fledermäuse - Windenergie
URL:https://aknaturschutz.de/index.php?option=com_jem&view=event&id=18:fled
 ermaeuse-windenergie
END:VEVENT
END:VCALENDAR
